Workbook

Sheet Objectives and Context
B2: Gender Equity Readiness Scorecard (GERS) for accommodation roles
B5: Objectives | C5: This GERS (Gender Equity Readiness Scorecard) tool is designed to score accommodation companies on their gender equity performance in entry-level roles across properties, and identify areas of improvement
B7: Context | C7: This tool: 1. Is designed to be used by either the companies themselves or independent evaluators 2. Is recommended to be used annually/ bi-annually to track progress 3. Has been designed to evaluate all accommodation properties directly operated by an accommodation company 4. Does not include scores on parameters mandated by law (e.g., creche facilities, maternity leave) 5. Can be used effectively by a medium or large accommodation company operating in one or more segments (e.g., hotels, resorts, co-living spaces, company guest houses, student hostels)
B9: Table of contents:
B11: Sheet | C11: Description
B12: How to use | C12: This sheet provides step-by-step instructions on whom to interview to score the organisation, and how to navigate this tool to fill in background information, complete the questionnaire, and view the final GERS score
B13: Score summary | C13: This is your main output page. The sheet will automatically display your background information and final GERS score once you complete the questionnaire
B14: Questionnaire | C14: This is the main survey sheet. Here you will enter your background information, and answer all the questions by selecting an option from the dropdown menus in the 'Your Response' column. Your answers will be scored automatically

Sheet How to use
B2: How to use this tool
B5: Whom to interview to score the organisation | C5: 1. Interview someone in the corporate team who has:
C6: a. Data (e.g., headcount, gender diversity) of all properties directly operated by the accommodation company
C7: b. Information about hiring policies (e.g., recruiter incentives) and key HR policies (e.g., KPI)
C8: 2. Ideally interview the HR Head of the company, but in some cases, you could also interview the CEO (for medium accommodation companies) or senior HR manager/ property manager (for large accommodation companies)
B10: How to use this tool | C10: Estimated time to complete: 20–30 minutes
C12: Step 1: Fill in your background information in the yellow cells
C13: Go to the 'Questionnaire' sheet
C14: Fill the fields in the 'Background' table
C16: Step 2: Complete the Questionnaire
C17: Go to the 'Questionnaire' sheet. You will see a list of survey questions
C18: For each question, go to the 'Your Response' column
C19: Click the dropdown menu and select the response that best fits your organisation
C20: If a question doesn’t apply to your operational context, select ‘Not applicable’ as the answer wherever allowed
C22: Step 3: View your score
C23: Go to the 'Score summary' sheet to view your final GERS score
B25: How the scoring works | C25: 1. The survey assesses gender equity performance across four dimensions: (1) Outcome, which includes three parameters; (2) Awareness and accountability, which includes four parameters; (3) Inclusive hiring and flexibility, which includes two parameters; and (4) Safety and infrastructure, which includes two parameters 2. Each question in the Outcome dimension is assigned a base score of 4, while each question in other dimensions is assigned a base score of 1, along with a multiplier (e.g., 1x, 2x, 3x) based on the effort/ impact potential. The total score is the sum of scores from all questions 3. Where 'Not applicable' is selected as the response, the question is excluded from both your score and maximum score of that dimension 4. The Excel workbook automatically calculates the total score for each question by applying the relevant multiplier to the base score 5. All scores are aggregated in the summary sheet, providing an overall view of gender equity performance across the four dimensions. Manual calculation is not required

Sheet Score summary
B2: Summary
B5: Background details of the company
B7: Description | H7: User input
B8: Full name of the company | H8: =IF(LEN(Questionnaire!E12)=0,"",Questionnaire!E12)
B9: Number of accommodation properties directly operated | H9: =IF(LEN(Questionnaire!E13)=0,"",Questionnaire!E13)
B10: Total workforce across all accommodation properties (on-roll + off-roll employees) | H10: =IF(LEN(Questionnaire!E14)=0,"",Questionnaire!E14)
B11: Accommodation segments operated by the company | H11: {=_xlfn.TEXTJOIN(", ", TRUE, IFERROR(_xlfn._xlws.FILTER(Questionnaire!B16:B23, Questionnaire!E16:E23="Yes"), ""), IF(Questionnaire!E24<>"", Questionnaire!E24, "") )}
B19: All properties cater only to women guests/ residents | H19: =IF(LEN(Questionnaire!E25)=0,"",Questionnaire!E25)
B21: Summary of questions
B23: Category | E23: Count
B24: Total # of questions in the tool | E24: =COUNTA(Questionnaire!C37:C39)+COUNTA(Questionnaire!C44:C59)+COUNTA(Questionnaire!C64:C71)+COUNTA(Questionnaire!C76:C83) -> 35
B25: # of questions where your response is 'Not applicable' | E25: =COUNTIF(Questionnaire!E37:E39,"Not applicable")+COUNTIF(Questionnaire!E44:E59,"Not applicable")+COUNTIF(Questionnaire!E64:E71,"Not applicable")+COUNTIF(Questionnaire!E76:E83, "Not applicable") -> 0
B26: # of questions included in scoring | E26: =E24-E25 -> 35
B28: GERS score
B30: Your final GERS score is | C30: =E38 -> 0
B32: Break-up of GERS score*
B33: Dimension | C33: Max score | D33: Your score | E33: Your %
B34: Outcome | C34: ='Scoring - Do not edit'!H22 -> 28 | D34: ='Scoring - Do not edit'!J22 -> 0 | E34: =IFERROR(D34/C34,0) -> 0
B35: Awareness and accountability | C35: ='Scoring - Do not edit'!H39 -> 20 | D35: ='Scoring - Do not edit'!J39 -> 0 | E35: =IFERROR(D35/C35,0) -> 0
B36: Inclusive hiring and flexibility | C36: ='Scoring - Do not edit'!H48 -> 8 | D36: ='Scoring - Do not edit'!J48 -> 0 | E36: =IFERROR(D36/C36,0) -> 0
B37: Safety and infrastructure | C37: ='Scoring - Do not edit'!H57 -> 12 | D37: ='Scoring - Do not edit'!J57 -> 0 | E37: =IFERROR(D37/C37,0) -> 0
B38: Total | C38: ='Scoring - Do not edit'!H58 -> 68 | D38: =IFERROR('Scoring - Do not edit'!J58,"0") -> 0 | E38: =IFERROR(D38/C38,0) -> 0
B39: *Note: Max score excludes questions where 'Not applicable' is selected as the response
B41: Next steps
B43: Review your responses in the Questionnaire sheet to identify the 3-4 practices that are not currently in place or are only partially implemented
B44: Prioritising these areas will help you strengthen performance and improve your overall GERS score in the next assessment cycle

Sheet Questionnaire
B2: Questionnaire
B5: GERS: Accommodation roles
B7: Legend | C7: User input needed
B9: Background
B11: Field | E11: Input
B12: What is the full name of your company?
B13: How many accommodation properties does your company directly operate?
B14: What is the total workforce headcount across the accommodation properties you directly operate? (include both on-roll and off-roll employees)
B15: Which of the following types of accommodation segments does your company operate? (Select 'Yes' for all that apply)
B16: Hotels, motels and resorts
B17: Holiday homes, PGs (paying guests) and homestays
B18: Backpacking hostels
B19: Camping grounds, recreational vehicle parks and trailer parks
B20: Co-living spaces
B21: Company guest houses
B22: Student dormitories/ hostels
B23: Worker hostels/ boarding houses
... B27: Common terms used
B29: Term | D29: Description
B30: Property | D30: Refers to a single establishment operated by an accommodation company
B31: Employee | D31: Refers to both on-roll and off-roll entry-level employees working at a property
B32: Guest | D32: Refers to any customer or resident (e.g., student) staying at the property
B34: Dimension 1: Outcome
B36: Parameter | C36: # | D36: Question | E36: Your response | F36: Multiplier
B37: Women employees | C37: 1.1.1 | D37: =VLOOKUP(C37,'Data - Do not edit'!$B$11:$C$1048576,2,0) -> What % of employees (on-roll and off-roll), across all shifts and all properties, are women? | F37: 3
B38: Women employees in night shifts | C38: 1.2.1 | D38: =VLOOKUP(C38,'Data - Do not edit'!$B$11:$C$1048576,2,0) -> What % of employees (on-roll and off-roll) working in night shifts (ending post ~8 PM), across all properties, are women? | F38: 2
B39: Women employees in F&B roles | C39: 1.3.1 | D39: =VLOOKUP(C39,'Data - Do not edit'!$B$11:$C$1048576,2,0) -> What % of employees (on-roll and off-roll) working in F&B (service and kitchen) roles, across all properties, are women? [Select 'Not applicable' if none of your properties has an F&B operation]* | F39: 2
B41: Dimension 2: Awareness and accountability
B43: Parameter | C43: # | D43: Question | E43: Your response | F43: Multiplier
B44: Diversity sensitisation and skilling | C44: 2.1.1 | D44: =VLOOKUP(C44,'Data - Do not edit'!$B$11:$C$1048576,2,0) -> Do at least 50% of your properties display workplace conduct posters (e.g., Do’s/ Don’ts for respectful and fair behaviour at work)? | F44: 1
C45: 2.1.2 | D45: =VLOOKUP(C45,'Data - Do not edit'!$B$11:$C$1048576,2,0) -> In the last/ current financial year, have you conducted any non-POSH gender sensitisation training to address managers’/ employees’ biases?* | F45: 1
C46: 2.1.3 | D46: =VLOOKUP(C46,'Data - Do not edit'!$B$11:$C$1048576,2,0) -> Is gender sensitisation (beyond POSH training) included in the onboarding module of new entry-level employees?* | F46: 1
C47: 2.1.4 | D47: =VLOOKUP(C47,'Data - Do not edit'!$B$11:$C$1048576,2,0) -> In the last/ current financial year, have you trained recruiters/ managers on inclusive hiring practices (e.g., objective assessment)? | F47: 1
B48: Diversity guidelines/ incentives | C48: 2.2.1 | D48: =VLOOKUP(C48,'Data - Do not edit'!$B$11:$C$1048576,2,0) -> In the last/ current financial year, have you recognised (e.g., via social media, internal newsletters) recruiters/ managers who hire and retain more women compared to their peers? | F48: 1
C49: 2.2.2 | D49: =VLOOKUP(C49,'Data - Do not edit'!$B$11:$C$1048576,2,0) -> Do you offer monetary rewards (e.g., cash vouchers) to recruiters/ managers who hire and retain more women compared to their peers? | F49: 1
C50: 2.2.3 | D50: =VLOOKUP(C50,'Data - Do not edit'!$B$11:$C$1048576,2,0) -> Do you specify gender diversity requirement (e.g., >10% women profiles) to recruiters/ staffing companies? | F50: 1
C51: 2.2.4 | D51: =VLOOKUP(C51,'Data - Do not edit'!$B$11:$C$1048576,2,0) -> Do you provide a higher per-hire reward to employees for referring women candidates (on-roll and off-roll) compared to men? | F51: 1
B52: Diversity targets and KPIs | C52: 2.3.1 | D52: =VLOOKUP(C52,'Data - Do not edit'!$B$11:$C$1048576,2,0) -> Have you pledged and announced (via internal email, newsletter) a company-level gender diversity target (e.g., x% women) for both on-roll and off-roll entry-level roles? | F52: 2
C53: 2.3.2 | D53: =VLOOKUP(C53,'Data - Do not edit'!$B$11:$C$1048576,2,0) -> Have you set gender diversity targets (e.g., x% women) for both on-roll and off-roll entry-level roles at property/ cluster level? | F53: 2
C54: 2.3.3 | D54: =VLOOKUP(C54,'Data - Do not edit'!$B$11:$C$1048576,2,0) -> In the last 6 months, have you reviewed progress against gender diversity target with your leadership and identified initiatives to improve? | F54: 2
C55: 2.3.4 | D55: =VLOOKUP(C55,'Data - Do not edit'!$B$11:$C$1048576,2,0) -> Have gender diversity KPIs been linked to the performance reviews and incentives of leaders and managers?* | F55: 2
B56: Diversity data publication | C56: 2.4.1 | D56: =VLOOKUP(C56,'Data - Do not edit'!$B$11:$C$1048576,2,0) -> Have you internally documented the qualitative benefits (e.g., improved guest experience) of hiring women for entry-level roles, and shared with managers? | F56: 1
C57: 2.4.2 | D57: =VLOOKUP(C57,'Data - Do not edit'!$B$11:$C$1048576,2,0) -> In the last two years, have you externally published content on your gender diversity initiatives for entry-level roles (via news articles, blogs)? | F57: 1
C58: 2.4.3 | D58: =VLOOKUP(C58,'Data - Do not edit'!$B$11:$C$1048576,2,0) -> In the last two years, have you published your gender diversity numbers externally (e.g., website, report)? | F58: 1
C59: 2.4.4 | D59: =VLOOKUP(C59,'Data - Do not edit'!$B$11:$C$1048576,2,0) -> In the last two years, have you estimated the benefits of hiring women (e.g., % attrition of men vs women) using your data, and shared the findings internally? | F59: 1
B61: Dimension 3: Inclusive hiring and flexibility
B63: Parameter | C63: # | D63: Question | E63: Your response | F63: Multiplier
B64: Inclusive hiring practices | C64: 3.1.1 | D64: =VLOOKUP(C64,'Data - Do not edit'!$B$11:$C$1048576,2,0) -> Do you use gender-neutral job titles (e.g., ‘security guard’ instead of ‘watchman’) and language (e.g., both men and women can apply) in your recruitment collaterals (e.g., job ads)? | F64: 1
C65: 3.1.2 | D65: =VLOOKUP(C65,'Data - Do not edit'!$B$11:$C$1048576,2,0) -> Have you shared written guidelines to recruiters (in-house/ external) on communicating relevant job details to women candidates (e.g., shift options, showing workplace videos/ photos)? | F65: 1
C66: 3.1.3 | D66: =VLOOKUP(C66,'Data - Do not edit'!$B$11:$C$1048576,2,0) -> Do you share existing women employees’ testimonials (e.g., videos via social media, website) to attract women candidates? | F66: 1
C67: 3.1.4 | D67: =VLOOKUP(C67,'Data - Do not edit'!$B$11:$C$1048576,2,0) -> Have you established a formal partnership with at least one women-focused hiring channel (e.g., women-focused NGOs, sector skill council)?* | F67: 1
B68: Flexibility and support | C68: 3.2.1 | D68: =VLOOKUP(C68,'Data - Do not edit'!$B$11:$C$1048576,2,0) -> Do you offer at least 10 personal/ sick leaves a year to all employees? | F68: 1
C69: 3.2.2 | D69: =VLOOKUP(C69,'Data - Do not edit'!$B$11:$C$1048576,2,0) -> Do you have a defined overtime pay matrix for employees working beyond their shift timings? | F69: 1
C70: 3.2.3 | D70: =VLOOKUP(C70,'Data - Do not edit'!$B$11:$C$1048576,2,0) -> Do you have a standard practice of assigning a woman PoC (e.g., supervisor, experienced employee) for entry-level women employees to share their concerns on workplace issues?* | F70: 1
C71: 3.2.4 | D71: =VLOOKUP(C71,'Data - Do not edit'!$B$11:$C$1048576,2,0) -> Do you provide part-time work options to employees (e.g., 4-5 hours shift instead of full 8-9 hours shift)? | F71: 1
B73: Dimension 4: Safety and infrastructure
B75: Parameter | C75: # | D75: Question | E75: Your response | F75: Multiplier
B76: Safety protocols/ practices | C76: 4.1.1 | D76: =VLOOKUP(C76,'Data - Do not edit'!$B$11:$C$1048576,2,0) -> Do you have a standard practice to inform employees about the escalation process for safety issues (e.g., aggressive/ intoxicated guests)? | F76: 2
C77: 4.1.2 | D77: =VLOOKUP(C77,'Data - Do not edit'!$B$11:$C$1048576,2,0) -> Do at least 50% of your properties display guest conduct protocols (e.g., expected guest behaviour, consequences of misconduct)? | F77: 2
C78: 4.1.3 | D78: =VLOOKUP(C78,'Data - Do not edit'!$B$11:$C$1048576,2,0) -> Do all your properties follow at least one of these protocols to ensure employee safety? 1) Open-door service with trolley in the way 2) Room service in pairs at night 3) Service deferral by employees if at risk | F78: 2
C79: 4.1.4 | D79: =VLOOKUP(C79,'Data - Do not edit'!$B$11:$C$1048576,2,0) -> In the last/ current financial year, have you audited safety measures across all properties and shared an audit report with senior leadership? | F79: 2
B80: Safety infrastructure and resources | C80: 4.2.1 | D80: =VLOOKUP(C80,'Data - Do not edit'!$B$11:$C$1048576,2,0) -> Do all your properties have sufficient lighting and CCTV coverage in isolated areas (e.g., staff pick-up area), back-office areas (e.g., stairwells), and corridors? | F80: 1
C81: 4.2.2 | D81: =VLOOKUP(C81,'Data - Do not edit'!$B$11:$C$1048576,2,0) -> Do you provide resources (e.g., SOS button in corridors/ utility areas, uniform-attached panic button) for employees to raise alert in emergency situations? | F81: 1
C82: 4.2.3 | D82: =VLOOKUP(C82,'Data - Do not edit'!$B$11:$C$1048576,2,0) -> Do at least 50% of your properties offer pick-up and/ or drop support (e.g., reimbursement, common point or door-step) for women employees? | F82: 1
C83: 4.2.4 | D83: =VLOOKUP(C83,'Data - Do not edit'!$B$11:$C$1048576,2,0) -> In the last/ current financial year, have you conducted any safety trainings (e.g., self-defence, conflict deescalation) for women employees? | F83: 1
B85: *Acronyms:
B86: F&B – Food and Beverage
B87: KPI – Key Performance Indicator
B88: POSH – Prevention of Sexual Harassment
B89: NGO – Non-Governmental Organisation
B90: PoC – Point of Contact

Sheet Scoring - Do not edit
B2: Scoring
B5: This sheet automatically calculates the score as per your responses
B7: Note: Do not edit or modify this sheet
B9: Legend | C9: Data based on user input
C10: Data as per GERS tool
C11: Calculated
B13: Max base score (without multiplier) for
B14: Questions under 'outcome' dimension | D14: 4
B15: Questions under other dimensions | D15: 1
B17: Calculation table
B18: Dimension | C18: Parameter | D18: Question | E18: Response | F18: Score | G18: Multiplier | H18: Maximum score | I18: Score * Multiplier | J18: Respondent's score
B19: Outcome | C19: Women employees | D19: 1.1.1 | E19: =Questionnaire!E37 -> 0 | F19: =IF(E19='Data - Do not edit'!C12, 0, IF(E19='Data - Do not edit'!C13, 1, IF(E19='Data - Do not edit'!C14, 2, IF(E19='Data - Do not edit'!C15, 3, IF(E19='Data - Do not edit'!C16, 4, ""))))) | G19: =Questionnaire!F37 -> 3 | H19: =IF(E19="Not applicable","",G19*$D$14) -> 12 | I19: =IFERROR(F19*G19,0) -> 0 | J19: =IFERROR(I19,0) -> 0
C20: Women employees in night shifts | D20: 1.2.1 | E20: =Questionnaire!E38 -> 0 | F20: =IF(E20='Data - Do not edit'!C19, 0, IF(E20='Data - Do not edit'!C20, 1, IF(E20='Data - Do not edit'!C21, 2, IF(E20='Data - Do not edit'!C22, 3, IF(E20='Data - Do not edit'!C23, 4, ""))))) | G20: =Questionnaire!F38 -> 2 | H20: =IF(E20="Not applicable","",G20*$D$14) -> 8 | I20: =IFERROR(F20*G20,0) -> 0 | J20: =IFERROR(I20,0) -> 0
C21: Women employees in F&B roles | D21: 1.3.1 | E21: =Questionnaire!E39 -> 0 | F21: =IF(E21='Data - Do not edit'!C26, "", IF(E21='Data - Do not edit'!C27, 0, IF(E21='Data - Do not edit'!C28, 1, IF(E21='Data - Do not edit'!C29, 2, IF(E21='Data - Do not edit'!C30, 3, IF(E21='Data - Do not edit'!C31, 4, "")))))) | G21: =Questionnaire!F39 -> 2 | H21: =IF(E21="Not applicable","",G21*$D$14) -> 8 | I21: =IFERROR(F21*G21,0) -> 0 | J21: =IFERROR(I21,0) -> 0
C22: Sub-total per dimension | H22: =SUM(H19:H21) -> 28 | J22: =IFERROR(SUM(J19:J21),"0") -> 0
B23: Awareness and accountability | C23: Diversity sensitisation and skilling | D23: 2.1.1 | E23: =Questionnaire!E44 -> 0 | F23: =IF(E23='Data - Do not edit'!C36,1,IF(E23='Data - Do not edit'!C37,0,"")) | G23: =Questionnaire!F44 -> 1 | H23: =IF(E23="Not applicable","",G23*$D$15) -> 1 | I23: =IFERROR(F23*G23,0) -> 0 | J23: =IFERROR(I23,0) -> 0
C24: Diversity sensitisation and skilling | D24: 2.1.2 | E24: =Questionnaire!E45 -> 0 | F24: =IF(E24='Data - Do not edit'!C40,1,IF(E24='Data - Do not edit'!C41,0,"")) | G24: =Questionnaire!F45 -> 1 | H24: =IF(E24="Not applicable","",G24*$D$15) -> 1 | I24: =IFERROR(F24*G24,0) -> 0 | J24: =IFERROR(I24,0) -> 0
C25: Diversity sensitisation and skilling | D25: 2.1.3 | E25: =Questionnaire!E46 -> 0 | F25: =IF(E25='Data - Do not edit'!C44,1, IF(E25='Data - Do not edit'!C45,0,"")) | G25: =Questionnaire!F46 -> 1 | H25: =IF(E25="Not applicable","",G25*$D$15) -> 1 | I25: =IFERROR(F25*G25,0) -> 0 | J25: =IFERROR(I25,0) -> 0
C26: Diversity sensitisation and skilling | D26: 2.1.4 | E26: =Questionnaire!E47 -> 0 | F26: =IF(E26='Data - Do not edit'!C48,1, IF(E26='Data - Do not edit'!C49,0,"")) | G26: =Questionnaire!F47 -> 1 | H26: =IF(E26="Not applicable","",G26*$D$15) -> 1 | I26: =IFERROR(F26*G26,0) -> 0 | J26: =IFERROR(I26,0) -> 0
C27: Diversity guidelines/ incentives | D27: 2.2.1 | E27: =Questionnaire!E48 -> 0 | F27: =IF(E27='Data - Do not edit'!C52,1,IF(E27='Data - Do not edit'!C53,0,"")) | G27: =Questionnaire!F48 -> 1 | H27: =IF(E27="Not applicable","",G27*$D$15) -> 1 | I27: =IFERROR(F27*G27,0) -> 0 | J27: =IFERROR(I27,0) -> 0
C28: Diversity guidelines/ incentives | D28: 2.2.2 | E28: =Questionnaire!E49 -> 0 | F28: =IF(E28='Data - Do not edit'!C56,1,IF(E28='Data - Do not edit'!C57,0,"")) | G28: =Questionnaire!F49 -> 1 | H28: =IF(E28="Not applicable","",G28*$D$15) -> 1 | I28: =IFERROR(F28*G28,0) -> 0 | J28: =IFERROR(I28,0) -> 0
C29: Diversity guidelines/ incentives | D29: 2.2.3 | E29: =Questionnaire!E50 -> 0 | F29: =IF(E29='Data - Do not edit'!C60,1,IF(E29='Data - Do not edit'!C61,0,"")) | G29: =Questionnaire!F50 -> 1 | H29: =IF(E29="Not applicable","",G29*$D$15) -> 1 | I29: =IFERROR(F29*G29,0) -> 0 | J29: =IFERROR(I29,0) -> 0
C30: Diversity guidelines/ incentives | D30: 2.2.4 | E30: =Questionnaire!E51 -> 0 | F30: =IF(E30='Data - Do not edit'!C64,1,IF(E30='Data - Do not edit'!C65,0,"")) | G30: =Questionnaire!F51 -> 1 | H30: =IF(E30="Not applicable","",G30*$D$15) -> 1 | I30: =IFERROR(F30*G30,0) -> 0 | J30: =IFERROR(I30,0) -> 0
C31: Diversity targets and KPIs | D31: 2.3.1 | E31: =Questionnaire!E52 -> 0 | F31: =IF(E31='Data - Do not edit'!C68,1, IF(E31='Data - Do not edit'!C69,0,"")) | G31: =Questionnaire!F52 -> 2 | H31: =IF(E31="Not applicable","",G31*$D$15) -> 2 | I31: =IFERROR(F31*G31,0) -> 0 | J31: =IFERROR(I31,0) -> 0
C32: Diversity targets and KPIs | D32: 2.3.2 | E32: =Questionnaire!E53 -> 0 | F32: =IF(E32='Data - Do not edit'!C72,1,IF(E32='Data - Do not edit'!C73,0,"")) | G32: =Questionnaire!F53 -> 2 | H32: =IF(E32="Not applicable","",G32*$D$15) -> 2 | I32: =IFERROR(F32*G32,0) -> 0 | J32: =IFERROR(I32,0) -> 0
C33: Diversity targets and KPIs | D33: 2.3.3 | E33: =Questionnaire!E54 -> 0 | F33: =IF(E33='Data - Do not edit'!C76,1,IF(E33='Data - Do not edit'!C77,0,"")) | G33: =Questionnaire!F54 -> 2 | H33: =IF(E33="Not applicable","",G33*$D$15) -> 2 | I33: =IFERROR(F33*G33,0) -> 0 | J33: =IFERROR(I33,0) -> 0
C34: Diversity targets and KPIs | D34: 2.3.4 | E34: =Questionnaire!E55 -> 0 | F34: =IF(E34='Data - Do not edit'!C80,1,IF(E34='Data - Do not edit'!C81,0,"")) | G34: =Questionnaire!F55 -> 2 | H34: =IF(E34="Not applicable","",G34*$D$15) -> 2 | I34: =IFERROR(F34*G34,0) -> 0 | J34: =IFERROR(I34,0) -> 0
C35: Diversity data publication | D35: 2.4.1 | E35: =Questionnaire!E56 -> 0 | F35: =IF(E35='Data - Do not edit'!C84,1,IF(E35='Data - Do not edit'!C85,0,"")) | G35: =Questionnaire!F56 -> 1 | H35: =IF(E35="Not applicable","",G35*$D$15) -> 1 | I35: =IFERROR(F35*G35,0) -> 0 | J35: =IFERROR(I35,0) -> 0
C36: Diversity data publication | D36: 2.4.2 | E36: =Questionnaire!E57 -> 0 | F36: =IF(E36='Data - Do not edit'!C88,1,IF(E36='Data - Do not edit'!C89,0,"")) | G36: =Questionnaire!F57 -> 1 | H36: =IF(E36="Not applicable","",G36*$D$15) -> 1 | I36: =IFERROR(F36*G36,0) -> 0 | J36: =IFERROR(I36,0) -> 0
C37: Diversity data publication | D37: 2.4.3 | E37: =Questionnaire!E58 -> 0 | F37: =IF(E37='Data - Do not edit'!C92,1,IF(E37='Data - Do not edit'!C93,0,"")) | G37: =Questionnaire!F58 -> 1 | H37: =IF(E37="Not applicable","",G37*$D$15) -> 1 | I37: =IFERROR(F37*G37,0) -> 0 | J37: =IFERROR(I37,0) -> 0
C38: Diversity data publication | D38: 2.4.4 | E38: =Questionnaire!E59 -> 0 | F38: =IF(E38='Data - Do not edit'!C96,1,IF(E38='Data - Do not edit'!C97,0,"")) | G38: =Questionnaire!F59 -> 1 | H38: =IF(E38="Not applicable","",G38*$D$15) -> 1 | I38: =IFERROR(F38*G38,0) -> 0 | J38: =IFERROR(I38,0) -> 0
C39: Sub-total per dimension | H39: =SUM(H23:H38) -> 20 | J39: =IFERROR(SUM(J23:J38),"0") -> 0
B40: Inclusive hiring and flexibility | C40: Inclusive hiring practices | D40: 3.1.1 | E40: =Questionnaire!E64 -> 0 | F40: =IF(E40='Data - Do not edit'!C102,1,IF(E40='Data - Do not edit'!C103,0,"")) | G40: =Questionnaire!F64 -> 1 | H40: =IF(E40="Not applicable","",G40*$D$15) -> 1 | I40: =IFERROR(F40*G40,0) -> 0 | J40: =IFERROR(I40,0) -> 0
C41: Inclusive hiring practices | D41: 3.1.2 | E41: =Questionnaire!E65 -> 0 | F41: =IF(E41='Data - Do not edit'!C106,1,IF(E41='Data - Do not edit'!C107,0,"")) | G41: =Questionnaire!F65 -> 1 | H41: =IF(E41="Not applicable","",G41*$D$15) -> 1 | I41: =IFERROR(F41*G41,0) -> 0 | J41: =IFERROR(I41,0) -> 0
C42: Inclusive hiring practices | D42: 3.1.3 | E42: =Questionnaire!E66 -> 0 | F42: =IF(E42='Data - Do not edit'!C110,1,IF(E42='Data - Do not edit'!C111,0,"")) | G42: =Questionnaire!F66 -> 1 | H42: =IF(E42="Not applicable","",G42*$D$15) -> 1 | I42: =IFERROR(F42*G42,0) -> 0 | J42: =IFERROR(I42,0) -> 0
C43: Inclusive hiring practices | D43: 3.1.4 | E43: =Questionnaire!E67 -> 0 | F43: =IF(E43='Data - Do not edit'!C114,1,IF(E43='Data - Do not edit'!C115,0,"")) | G43: =Questionnaire!F67 -> 1 | H43: =IF(E43="Not applicable","",G43*$D$15) -> 1 | I43: =IFERROR(F43*G43,0) -> 0 | J43: =IFERROR(I43,0) -> 0
C44: Flexibility and support | D44: 3.2.1 | E44: =Questionnaire!E68 -> 0 | F44: =IF(E44='Data - Do not edit'!C118,1,IF(E44='Data - Do not edit'!C119,0,"")) | G44: =Questionnaire!F68 -> 1 | H44: =IF(E44="Not applicable","",G44*$D$15) -> 1 | I44: =IFERROR(F44*G44,0) -> 0 | J44: =IFERROR(I44,0) -> 0
C45: Flexibility and support | D45: 3.2.2 | E45: =Questionnaire!E69 -> 0 | F45: =IF(E45='Data - Do not edit'!C122,1,IF(E45='Data - Do not edit'!C123,0,"")) | G45: =Questionnaire!F69 -> 1 | H45: =IF(E45="Not applicable","",G45*$D$15) -> 1 | I45: =IFERROR(F45*G45,0) -> 0 | J45: =IFERROR(I45,0) -> 0
C46: Flexibility and support | D46: 3.2.3 | E46: =Questionnaire!E70 -> 0 | F46: =IF(E46='Data - Do not edit'!C126,1,IF(E46='Data - Do not edit'!C127,0,"")) | G46: =Questionnaire!F70 -> 1 | H46: =IF(E46="Not applicable","",G46*$D$15) -> 1 | I46: =IFERROR(F46*G46,0) -> 0 | J46: =IFERROR(I46,0) -> 0
C47: Flexibility and support | D47: 3.2.4 | E47: =Questionnaire!E71 -> 0 | F47: =IF(E47='Data - Do not edit'!C130,1,IF(E47='Data - Do not edit'!C131,0,"")) | G47: =Questionnaire!F71 -> 1 | H47: =IF(E47="Not applicable","",G47*$D$15) -> 1 | I47: =IFERROR(F47*G47,0) -> 0 | J47: =IFERROR(I47,0) -> 0
C48: Sub-total per dimension | H48: =SUM(H40:H47) -> 8 | J48: =IFERROR(SUM(J40:J47),"0") -> 0
B49: Safety and infrastructure | C49: Safety protocols/ practices | D49: 4.1.1 | E49: =Questionnaire!E76 -> 0 | F49: =IF(E49='Data - Do not edit'!C136,1,IF(E49='Data - Do not edit'!C137,0,"")) | G49: =Questionnaire!F76 -> 2 | H49: =IF(E49="Not applicable","",G49*$D$15) -> 2 | I49: =IFERROR(F49*G49,0) -> 0 | J49: =IFERROR(I49,0) -> 0
C50: Safety protocols/ practices | D50: 4.1.2 | E50: =Questionnaire!E77 -> 0 | F50: =IF(E50='Data - Do not edit'!C140,1,IF(E50='Data - Do not edit'!C141,0,"")) | G50: =Questionnaire!F77 -> 2 | H50: =IF(E50="Not applicable","",G50*$D$15) -> 2 | I50: =IFERROR(F50*G50,0) -> 0 | J50: =IFERROR(I50,0) -> 0
C51: Safety protocols/ practices | D51: 4.1.3 | E51: =Questionnaire!E78 -> 0 | F51: =IF(E51='Data - Do not edit'!C144,1,IF(E51='Data - Do not edit'!C145,0,"")) | G51: =Questionnaire!F78 -> 2 | H51: =IF(E51="Not applicable","",G51*$D$15) -> 2 | I51: =IFERROR(F51*G51,0) -> 0 | J51: =IFERROR(I51,0) -> 0
C52: Safety protocols/ practices | D52: 4.1.4 | E52: =Questionnaire!E79 -> 0 | F52: =IF(E52='Data - Do not edit'!C148,1,IF(E52='Data - Do not edit'!C149,0,"")) | G52: =Questionnaire!F79 -> 2 | H52: =IF(E52="Not applicable","",G52*$D$15) -> 2 | I52: =IFERROR(F52*G52,0) -> 0 | J52: =IFERROR(I52,0) -> 0
C53: Safety infrastructure and resources | D53: 4.2.1 | E53: =Questionnaire!E80 -> 0 | F53: =IF(E53='Data - Do not edit'!C152,1,IF(E53='Data - Do not edit'!C153,0,"")) | G53: =Questionnaire!F80 -> 1 | H53: =IF(E53="Not applicable","",G53*$D$15) -> 1 | I53: =IFERROR(F53*G53,0) -> 0 | J53: =IFERROR(I53,0) -> 0
C54: Safety infrastructure and resources | D54: 4.2.2 | E54: =Questionnaire!E81 -> 0 | F54: =IF(E54='Data - Do not edit'!C156,1,IF(E54='Data - Do not edit'!C157,0,"")) | G54: =Questionnaire!F81 -> 1 | H54: =IF(E54="Not applicable","",G54*$D$15) -> 1 | I54: =IFERROR(F54*G54,0) -> 0 | J54: =IFERROR(I54,0) -> 0
C55: Safety infrastructure and resources | D55: 4.2.3 | E55: =Questionnaire!E82 -> 0 | F55: =IF(E55='Data - Do not edit'!C160,1,IF(E55='Data - Do not edit'!C161,0,"")) | G55: =Questionnaire!F82 -> 1 | H55: =IF(E55="Not applicable","",G55*$D$15) -> 1 | I55: =IFERROR(F55*G55,0) -> 0 | J55: =IFERROR(I55,0) -> 0
C56: Safety infrastructure and resources | D56: 4.2.4 | E56: =Questionnaire!E83 -> 0 | F56: =IF(E56='Data - Do not edit'!C164,1,IF(E56='Data - Do not edit'!C165,0,"")) | G56: =Questionnaire!F83 -> 1 | H56: =IF(E56="Not applicable","",G56*$D$15) -> 1 | I56: =IFERROR(F56*G56,0) -> 0 | J56: =IFERROR(I56,0) -> 0
C57: Sub-total per dimension | H57: =SUM(H49:H56) -> 12 | J57: =IFERROR(SUM(J49:J56),"0") -> 0
B58: Total across dimensions | H58: =H48+H39+H22+H57 -> 68 | J58: =IFERROR(J22+J39+J48+J57,"0") -> 0

Sheet Data - Do not edit
B2: Data
B5: This sheet contains all the background data for the drop-down menu of the responses
B7: Note: Do not edit or modify this sheet
B9: Dimension 1 – Outcome
B11: 1.1.1 | C11: What % of employees (on-roll and off-roll), across all shifts and all properties, are women?
B12: a) | C12: <5%
B13: b) | C13: >=5%
B14: c) | C14: >=10%
B15: d) | C15: >=20%
B16: e) | C16: >=30%
B18: 1.2.1 | C18: What % of employees (on-roll and off-roll) working in night shifts (ending post ~8 PM), across all properties, are women?
B19: a) | C19: <5%
B20: b) | C20: >=5%
B21: c) | C21: >=10%
B22: d) | C22: >=15%
B23: e) | C23: >=20%
... B31: f) | C31: >=30%
B33: Dimension 2 – Awareness and accountability
B35: 2.1.1 | C35: Do at least 50% of your properties display workplace conduct posters (e.g., Do’s/ Don’ts for respectful and fair behaviour at work)?
B36: a) | C36: Yes
B37: b) | C37: No
B39: 2.1.2 | C39: In the last/ current financial year, have you conducted any non-POSH gender sensitisation training to address managers’/ employees’ biases?*
B40: a) | C40: Yes
B41: b) | C41: No
B43: 2.1.3 | C43: Is gender sensitisation (beyond POSH training) included in the onboarding module of new entry-level employees?*
B44: a) | C44: Yes
B45: b) | C45: No
B47: 2.1.4 | C47: In the last/ current financial year, have you trained recruiters/ managers on inclusive hiring practices (e.g., objective assessment)?
B48: a) | C48: Yes
B49: b) | C49: No
... B97: b) | C97: No
B99: Dimension 3 – Inclusive hiring and flexibility
B101: 3.1.1 | C101: Do you use gender-neutral job titles (e.g., ‘security guard’ instead of ‘watchman’) and language (e.g., both men and women can apply) in your recruitment collaterals (e.g., job ads)?
B102: a) | C102: Yes
B103: b) | C103: No
B105: 3.1.2 | C105: Have you shared written guidelines to recruiters (in-house/ external) on communicating relevant job details to women candidates (e.g., shift options, showing workplace videos/ photos)?
B106: a) | C106: Yes
B107: b) | C107: No
B109: 3.1.3 | C109: Do you share existing women employees’ testimonials (e.g., videos via social media, website) to attract women candidates?
B110: a) | C110: Yes
B111: b) | C111: No
B113: 3.1.4 | C113: Have you established a formal partnership with at least one women-focused hiring channel (e.g., women-focused NGOs, sector skill council)?*
B114: a) | C114: Yes
B115: b) | C115: No
... B131: b) | C131: No
B133: Dimension 4 – Safety and infrastructure
B135: 4.1.1 | C135: Do you have a standard practice to inform employees about the escalation process for safety issues (e.g., aggressive/ intoxicated guests)?
B136: a) | C136: Yes
B137: b) | C137: No
B139: 4.1.2 | C139: Do at least 50% of your properties display guest conduct protocols (e.g., expected guest behaviour, consequences of misconduct)?
B140: a) | C140: Yes
B141: b) | C141: No
B143: 4.1.3 | C143: Do all your properties follow at least one of these protocols to ensure employee safety? 1) Open-door service with trolley in the way 2) Room service in pairs at night 3) Service deferral by employees if at risk
B144: a) | C144: Yes
B145: b) | C145: No
B147: 4.1.4 | C147: In the last/ current financial year, have you audited safety measures across all properties and shared an audit report with senior leadership?
B148: a) | C148: Yes
B149: b) | C149: No
... B165: b) | C165: No
