Workbook

Sheet Objectives and Context
B2: Worker Experience and Gender Equity Scorecard for on-site construction roles
B5: Objectives | C5: This scorecard tool is designed to score project owners and contractors on their performance on worker experience and gender equity in entry-level on-site roles, and identify areas of improvement
B7: Context | C7: This tool: 1. Is designed to be used by either the companies themselves or independent evaluators 2. Is recommended to be used annually/ bi-annually to track progress 3. Has been designed to evaluate all construction sites owned or operated by a project owner/ contractor 4. Can be used effectively by a medium or large project owner/ contractor
B9: Table of contents:
B11: Sheet | C11: Description
B12: How to use | C12: This sheet provides step-by-step instructions on whom to interview to score the organisation, and how to navigate this tool to fill in background information, complete the questionnaire, and view the final score
B13: Score summary | C13: This is your main output page. The sheet will automatically display your background information and final score once you complete the questionnaire
B14: Questionnaire | C14: This is the main survey sheet. Here you will enter your background information, and answer all the questions by selecting an option from the dropdown menus in the 'Your Response' column. Your answers will be scored automatically

Sheet How to use
B2: How to use this tool
B5: Whom to interview to score the organisation | C5: 1. Interview someone at the head office who has:
C6: a. Data (e.g., headcount, gender diversity) on all construction sites operated by the project owner/ contractor
C7: b. Information about hiring policies of their contractors/ sub-contractors, and on-site facilities and practices
C8: 2. Ideally interview the head of HR or projects, but in some cases, you could also interview the senior project managers (for large-scale project owners/ contractors)
B10: How to use this tool | C10: Estimated time to complete: 20–30 minutes
C12: Step 1: Fill in your background information in the yellow cells
C13: Go to the 'Questionnaire' sheet
C14: Fill the fields in the 'Background' table
C16: Step 2: Complete the Questionnaire
C17: Go to the 'Questionnaire' sheet. You will see a list of survey questions
C18: For each question, go to the 'Your Response' column
C19: Click the dropdown menu and select the response that best fits your organisation
C20: If a question doesn’t apply to your operational context, select ‘Not applicable’ as the answer wherever allowed
C22: Step 3: View your score
C23: Go to the 'Score summary' sheet to view your final score
B25: How the scoring works | C25: 1. The survey assesses performance across five dimensions: (1) Outcome, which includes three parameters; (2) Accountability, which includes one parameter; (3) Employment practices, which includes two parameters; (4) Inclusive hiring and onboarding, which includes two parameters; and (5) Workplace facilities and support, which includes three parameters 2. Two questions in the Outcome dimension are assigned a base score of 4, while all other question across dimensions are assigned a base score of 1, along with a multiplier (e.g., 1x, 2x, 3x) based on the effort/ impact potential. The total score is the sum of scores from all questions 3. Where 'Not applicable' is selected as the response, the question is excluded from both your score and maximum score of that dimension 4. The Excel workbook automatically calculates the total score for each question by applying the relevant multiplier to the base score 5. All scores are aggregated in the summary sheet, providing an overall view of worker experience and gender equity performance across the five dimensions. Manual calculation is not required

Sheet Score summary
B2: Summary
B5: Background details of the company
B7: Description | H7: User input
B8: Full name of the company | H8: =IF(LEN(Questionnaire!E12)=0,"",Questionnaire!E12)
B9: Number of active construction sites in India | H9: =IF(LEN(Questionnaire!E13)=0,"",Questionnaire!E13)
B10: Total number of on-site workers (on-roll, off-roll, casual labour) across all active construction sites in India | H10: =IF(LEN(Questionnaire!E14)=0,"",Questionnaire!E14)
B11: Construction activities your company is involved in | H11: {=_xlfn.TEXTJOIN(", ", TRUE, IFERROR(_xlfn._xlws.FILTER(Questionnaire!B16:B23, Questionnaire!E16:E23="Yes"), ""), IF(Questionnaire!E24<>"", Questionnaire!E24, "") )}
B24: Your company's role in construction projects | H24: {=_xlfn.TEXTJOIN(", ", TRUE, IFERROR(_xlfn._xlws.FILTER(Questionnaire!B26:B28, Questionnaire!E26:E28="Yes"), ""), IF(Questionnaire!E29<>"", Questionnaire!E29, "") )}
B27: Summary of questions
B29: Category | E29: Count
B30: Total # of questions in the tool | E30: =COUNTA(Questionnaire!C39:C44)+COUNTA(Questionnaire!C49:C52)+COUNTA(Questionnaire!C57:C64)+COUNTA(Questionnaire!C69:C76)+COUNTA(Questionnaire!C81:C92) -> 38
B31: # of questions where your response is 'Not applicable' | E31: =COUNTIF(Questionnaire!E39:E44,"Not applicable")+COUNTIF(Questionnaire!E49:E52,"Not applicable")+COUNTIF(Questionnaire!E57:E64,"Not applicable")+COUNTIF(Questionnaire!E69:E76, "Not applicable")+COUNTIF(Questionnaire!E81:E92,"Not applicable") -> 0
B32: # of questions included in scoring | E32: =E30-E31 -> 38
B34: Score as per the tool
B36: Your final score is | C36: =E45 -> 0
B38: Break-up of final score*
B39: Dimension | C39: Max score | D39: Your score | E39: Your %
B40: Outcome | C40: ='Scoring - Do not edit'!H25 -> 28 | D40: ='Scoring - Do not edit'!J25 -> 0 | E40: =IFERROR(D40/C40,0) -> 0
B41: Accountability | C41: ='Scoring - Do not edit'!H30 -> 8 | D41: ='Scoring - Do not edit'!J30 -> 0 | E41: =IFERROR(D41/C41,0) -> 0
B42: Employment practices | C42: ='Scoring - Do not edit'!H39 -> 16 | D42: ='Scoring - Do not edit'!J39 -> 0 | E42: =IFERROR(D42/C42,0) -> 0
B43: Inclusive hiring and onboarding | C43: ='Scoring - Do not edit'!H48 -> 8 | D43: ='Scoring - Do not edit'!J48 -> 0 | E43: =IFERROR(D43/C43,0) -> 0
B44: Workplace facilities and support | C44: ='Scoring - Do not edit'!H61 -> 12 | D44: ='Scoring - Do not edit'!J61 -> 0 | E44: =IFERROR(D44/C44,0) -> 0
B45: Total | C45: ='Scoring - Do not edit'!H62 -> 72 | D45: ='Scoring - Do not edit'!J62 -> 0 | E45: =IFERROR(D45/C45,0) -> 0
B46: *Note: Max score excludes questions where 'Not applicable' is selected as the response
B48: Next steps
B50: Review your responses in the Questionnaire sheet to identify the 3-4 practices that are not currently in place or are only partially implemented
B51: Prioritising these areas will help you strengthen performance and improve your overall score in the next assessment cycle

Sheet Questionnaire
B2: Questionnaire
B5: Worker Experience and Gender Equity Scorecard: On-site construction roles
B7: Legend | C7: User input needed
B9: Background
B11: Field | E11: Input
B12: What is the full name of your company?
B13: How many active construction sites does your company own or operate in India?
B14: What is the total number of on-site workers (on-roll, off-roll, casual labour) regardless of the employer (e.g., project owner, contractor, sub-contractor) across all your active construction sites in India?
B15: What type of construction activities are you involved in? (Select 'Yes' for all that apply)
B16: General construction of residential buildings
B17: General construction of commercial buildings
B18: General construction and maintenance of roads and railways
B19: General construction and maintenance of utilities projects (e.g., bridges, pipelines, powerlines)
B20: General construction and maintenance of other civil engineering projects (e.g., industrial facilities, waterways, dams)
B21: (Specialised construction activities) Demolition and site preparation
B22: (Specialised construction activities) Electrical, plumbing, and other construction installation
B23: (Specialised construction activities) Building completion and finishing
... B31: Common terms used
B33: Term | D33: Description
B34: Worker | D34: Refers to any entry-level worker (on-roll, off-roll, casual labour) employed at construction sites regardless of the employer (e.g., project owner, contractor, sub-contractor)
B36: Dimension 1: Outcome
B38: Parameter | C38: # | D38: Question | E38: Your response | F38: Multiplier
B39: Women in on-site roles | C39: 1.1.1 | D39: =VLOOKUP(C39,'Data - Do not edit'!$B$11:$C$1048576,2,0) -> What % of workers (includes on-roll, off-roll, casual labour) across all your sites are women? | F39: 3
B40: Women in skilled/ supervisory roles | C40: 1.2.1 | D40: =VLOOKUP(C40,'Data - Do not edit'!$B$11:$C$1048576,2,0) -> Do women work in skilled roles in at least 10% of all your sites? | F40: 2
C41: 1.2.2 | D41: =VLOOKUP(C41,'Data - Do not edit'!$B$11:$C$1048576,2,0) -> Do women work in skilled roles in at least 30% of all your sites? | F41: 2
C42: 1.2.3 | D42: =VLOOKUP(C42,'Data - Do not edit'!$B$11:$C$1048576,2,0) -> Do women work in supervisory roles in at least 10% of all your sites? | F42: 2
C43: 1.2.4 | D43: =VLOOKUP(C43,'Data - Do not edit'!$B$11:$C$1048576,2,0) -> Do women represent at least 10% of your total skilled trade workforce? | F43: 2
B44: Labour card access | C44: 1.3.1 | D44: =VLOOKUP(C44,'Data - Do not edit'!$B$11:$C$1048576,2,0) -> What % of workers (includes on-roll, off-roll, casual labour) across all your sites have an active labour card? | F44: 2
B46: Dimension 2: Accountability
B48: Parameter | C48: # | D48: Question | E48: Your response | F48: Multiplier
B49: Diversity data and targets | C49: 2.1.1 | D49: =VLOOKUP(C49,'Data - Do not edit'!$B$11:$C$1048576,2,0) -> Do you collect/ maintain data on worker attendance by gender in weekly progress reports for all your sites? | F49: 2
C50: 2.1.2 | D50: =VLOOKUP(C50,'Data - Do not edit'!$B$11:$C$1048576,2,0) -> Do you include non-binding gender diversity expectations (e.g., reasonable efforts towards 10% diversity) in your contracts? [Select 'Not applicable' if you do not have formal contractors/ sub-contractors for construction work on any of your sites] | F50: 2
C51: 2.1.3 | D51: =VLOOKUP(C51,'Data - Do not edit'!$B$11:$C$1048576,2,0) -> Have you mandated/ taken a gender diversity target (e.g., 25%) for all your sites? | F51: 2
C52: 2.1.4 | D52: =VLOOKUP(C52,'Data - Do not edit'!$B$11:$C$1048576,2,0) -> Do you assign a defined weightage (e.g., 5%) to gender diversity when awarding contracts? [Select 'Not applicable' if you do not have formal contractors/ sub-contractors for construction work on any of your sites] | F52: 2
B54: Dimension 3: Employment practices
B56: Parameter | C56: # | D56: Question | E56: Your response | F56: Multiplier
B57: Wage payment practices | C57: 3.1.1 | D57: =VLOOKUP(C57,'Data - Do not edit'!$B$11:$C$1048576,2,0) -> Do all your sites display minimum wage and overtime rate information by skill level? | F57: 2
C58: 3.1.2 | D58: =VLOOKUP(C58,'Data - Do not edit'!$B$11:$C$1048576,2,0) -> Do all your sites maintain records of daily attendance and wage payment (e.g., UPI screenshots, signed wage slips) for all workers?* | F58: 2
C59: 3.1.3 | D59: =VLOOKUP(C59,'Data - Do not edit'!$B$11:$C$1048576,2,0) -> In the last quarter, have all your sites conducted an audit of attendance and wage payment records to check minimum wage and overtime rate compliance? | F59: 2
C60: 3.1.4 | D60: =VLOOKUP(C60,'Data - Do not edit'!$B$11:$C$1048576,2,0) -> In the last quarter, have all your sites conducted an audit of wage payment records to check for any gender-based wage gap for same roles? | F60: 2
...

Sheet Scoring - Do not edit
B2: Scoring
B5: This sheet automatically calculates the score as per your responses
B7: Note: Do not edit or modify this sheet
B9: Legend | C9: Data based on user input
C10: Data as per scorecard tool
C11: Calculated
B13: Max base score (without multiplier) for
B14: Questions under 'outcome' dimension except parameter 'Women in skilled/ supervisory roles' | D14: 4
B15: All other questions | D15: 1
B17: Calculation table
B18: Dimension | C18: Parameter | D18: Question | E18: Response | F18: Score | G18: Multiplier | H18: Maximum score | I18: Score * Multiplier | J18: Respondent's score
B19: Outcome | C19: Women in on-site roles | D19: 1.1.1 | E19: =Questionnaire!E39 -> 0 | F19: =IF(E19='Data - Do not edit'!C12, 0, IF(E19='Data - Do not edit'!C13, 1, IF(E19='Data - Do not edit'!C14, 2, IF(E19='Data - Do not edit'!C15, 3, IF(E19='Data - Do not edit'!C16, 4, ""))))) | G19: =Questionnaire!F39 -> 3 | H19: =IF(E19="Not applicable","",G19*$D$14) -> 12 | I19: =IFERROR(F19*G19,0) -> 0 | J19: =IFERROR(I19,0) -> 0
C20: Women in skilled/ supervisory roles | D20: 1.2.1 | E20: =Questionnaire!E40 -> 0 | F20: =IF(E20='Data - Do not edit'!C19,1,IF(E20='Data - Do not edit'!C20,0,"")) | G20: =Questionnaire!F40 -> 2 | H20: =IF(E20="Not applicable","",G20*$D$15) -> 2 | I20: =IFERROR(F20*G20,0) -> 0 | J20: =IFERROR(I20,0) -> 0
C21: Women in skilled/ supervisory roles | D21: 1.2.2 | E21: =Questionnaire!E41 -> 0 | F21: =IF(E21='Data - Do not edit'!C23,1,IF(E21='Data - Do not edit'!C24,0,"")) | G21: =Questionnaire!F41 -> 2 | H21: =IF(E21="Not applicable","",G21*$D$15) -> 2 | I21: =IFERROR(F21*G21,0) -> 0 | J21: =IFERROR(I21,0) -> 0
C22: Women in skilled/ supervisory roles | D22: 1.2.3 | E22: =Questionnaire!E42 -> 0 | F22: =IF(E22='Data - Do not edit'!C27,1,IF(E22='Data - Do not edit'!C28,0,"")) | G22: =Questionnaire!F42 -> 2 | H22: =IF(E22="Not applicable","",G22*$D$15) -> 2 | I22: =IFERROR(F22*G22,0) -> 0 | J22: =IFERROR(I22,0) -> 0
C23: Women in skilled/ supervisory roles | D23: 1.2.4 | E23: =Questionnaire!E43 -> 0 | F23: =IF(E23='Data - Do not edit'!C31,1,IF(E23='Data - Do not edit'!C32,0,"")) | G23: =Questionnaire!F43 -> 2 | H23: =IF(E23="Not applicable","",G23*$D$15) -> 2 | I23: =IFERROR(F23*G23,0) -> 0 | J23: =IFERROR(I23,0) -> 0
C24: Labour card access | D24: 1.3.1 | E24: =Questionnaire!E44 -> 0 | F24: =IF(E24='Data - Do not edit'!C35,0,IF(E24='Data - Do not edit'!C36,1,IF(E24='Data - Do not edit'!C37,2,IF(E24='Data - Do not edit'!C38,3,IF(E24='Data - Do not edit'!C39,4,""))))) | G24: =Questionnaire!F44 -> 2 | H24: =IF(E24="Not applicable","",G24*$D$14) -> 8 | I24: =IFERROR(F24*G24,0) -> 0 | J24: =IFERROR(I24,0) -> 0
C25: Sub-total per dimension | H25: =IFERROR(SUM(H19:H24),"0") -> 28 | J25: =IFERROR(SUM(J19:J24),"0") -> 0
B26: Accountability | C26: Diversity data and targets | D26: 2.1.1 | E26: =Questionnaire!E49 -> 0 | F26: =IF(E26='Data - Do not edit'!C44,1,IF(E26='Data - Do not edit'!C45,0,"")) | G26: =Questionnaire!F49 -> 2 | H26: =IF(E26="Not applicable","",G26*$D$15) -> 2 | I26: =IFERROR(F26*G26,0) -> 0 | J26: =IFERROR(I26,0) -> 0
C27: Diversity data and targets | D27: 2.1.2 | E27: =Questionnaire!E50 -> 0 | F27: =IF(E27='Data - Do not edit'!C48,"",IF(E27='Data - Do not edit'!C49,1,IF(E27='Data - Do not edit'!C50,0,""))) | G27: =Questionnaire!F50 -> 2 | H27: =IF(E27="Not applicable","",G27*$D$15) -> 2 | I27: =IFERROR(F27*G27,0) -> 0 | J27: =IFERROR(I27,0) -> 0
C28: Diversity data and targets | D28: 2.1.3 | E28: =Questionnaire!E51 -> 0 | F28: =IF(E28='Data - Do not edit'!C53,1, IF(E28='Data - Do not edit'!C54,0,"")) | G28: =Questionnaire!F51 -> 2 | H28: =IF(E28="Not applicable","",G28*$D$15) -> 2 | I28: =IFERROR(F28*G28,0) -> 0 | J28: =IFERROR(I28,0) -> 0
C29: Diversity data and targets | D29: 2.1.4 | E29: =Questionnaire!E52 -> 0 | F29: =IF(E29='Data - Do not edit'!C57,"",IF(E29='Data - Do not edit'!C58,1,IF(E29='Data - Do not edit'!C59,0,""))) | G29: =Questionnaire!F52 -> 2 | H29: =IF(E29="Not applicable","",G29*$D$15) -> 2 | I29: =IFERROR(F29*G29,0) -> 0 | J29: =IFERROR(I29,0) -> 0
C30: Sub-total per dimension | H30: =IFERROR(SUM(H26:H29),"0") -> 8 | J30: =IFERROR(SUM(J26:J29),"0") -> 0
B31: Employment practices | C31: Wage payment practices | D31: 3.1.1 | E31: =Questionnaire!E57 -> 0 | F31: =IF(E31='Data - Do not edit'!C64,1,IF(E31='Data - Do not edit'!C65,0,"")) | G31: =Questionnaire!F57 -> 2 | H31: =IF(E31="Not applicable","",G31*$D$15) -> 2 | I31: =IFERROR(F31*G31,0) -> 0 | J31: =IFERROR(I31,0) -> 0
C32: Wage payment practices | D32: 3.1.2 | E32: =Questionnaire!E58 -> 0 | F32: =IF(E32='Data - Do not edit'!C68,1,IF(E32='Data - Do not edit'!C69,0,"")) | G32: =Questionnaire!F58 -> 2 | H32: =IF(E32="Not applicable","",G32*$D$15) -> 2 | I32: =IFERROR(F32*G32,0) -> 0 | J32: =IFERROR(I32,0) -> 0
C33: Wage payment practices | D33: 3.1.3 | E33: =Questionnaire!E59 -> 0 | F33: =IF(E33='Data - Do not edit'!C72,1,IF(E33='Data - Do not edit'!C73,0,"")) | G33: =Questionnaire!F59 -> 2 | H33: =IF(E33="Not applicable","",G33*$D$15) -> 2 | I33: =IFERROR(F33*G33,0) -> 0 | J33: =IFERROR(I33,0) -> 0
C34: Wage payment practices | D34: 3.1.4 | E34: =Questionnaire!E60 -> 0 | F34: =IF(E34='Data - Do not edit'!C76,1,IF(E34='Data - Do not edit'!C77,0,"")) | G34: =Questionnaire!F60 -> 2 | H34: =IF(E34="Not applicable","",G34*$D$15) -> 2 | I34: =IFERROR(F34*G34,0) -> 0 | J34: =IFERROR(I34,0) -> 0
C35: Formal employment | D35: 3.2.1 | E35: =Questionnaire!E61 -> 0 | F35: =IF(E35='Data - Do not edit'!C80,1, IF(E35='Data - Do not edit'!C81,0,"")) | G35: =Questionnaire!F61 -> 2 | H35: =IF(E35="Not applicable","",G35*$D$15) -> 2 | I35: =IFERROR(F35*G35,0) -> 0 | J35: =IFERROR(I35,0) -> 0
C36: Formal employment | D36: 3.2.2 | E36: =Questionnaire!E62 -> 0 | F36: =IF(E36='Data - Do not edit'!C84,1,IF(E36='Data - Do not edit'!C85,0,"")) | G36: =Questionnaire!F62 -> 2 | H36: =IF(E36="Not applicable","",G36*$D$15) -> 2 | I36: =IFERROR(F36*G36,0) -> 0 | J36: =IFERROR(I36,0) -> 0
C37: Formal employment | D37: 3.2.3 | E37: =Questionnaire!E63 -> 0 | F37: =IF(E37='Data - Do not edit'!C88,1,IF(E37='Data - Do not edit'!C89,0,"")) | G37: =Questionnaire!F63 -> 2 | H37: =IF(E37="Not applicable","",G37*$D$15) -> 2 | I37: =IFERROR(F37*G37,0) -> 0 | J37: =IFERROR(I37,0) -> 0
C38: Formal employment | D38: 3.2.4 | E38: =Questionnaire!E64 -> 0 | F38: =IF(E38='Data - Do not edit'!C92,1,IF(E38='Data - Do not edit'!C93,0,"")) | G38: =Questionnaire!F64 -> 2 | H38: =IF(E38="Not applicable","",G38*$D$15) -> 2 | I38: =IFERROR(F38*G38,0) -> 0 | J38: =IFERROR(I38,0) -> 0
C39: Sub-total per dimension | H39: =IFERROR(SUM(H31:H38),"0") -> 16 | J39: =IFERROR(SUM(J31:J38),"0") -> 0
B40: Inclusive hiring and onboarding | C40: Inclusive hiring and upskilling | D40: 4.1.1 | E40: =Questionnaire!E69 -> 0 | F40: =IF(E40='Data - Do not edit'!C98,1,IF(E40='Data - Do not edit'!C99,0,"")) | G40: =Questionnaire!F69 -> 1 | H40: =IF(E40="Not applicable","",G40*$D$15) -> 1 | I40: =IFERROR(F40*G40,0) -> 0 | J40: =IFERROR(I40,0) -> 0
C41: Inclusive hiring and upskilling | D41: 4.1.2 | E41: =Questionnaire!E70 -> 0 | F41: =IF(E41='Data - Do not edit'!C102,1,IF(E41='Data - Do not edit'!C103,0,"")) | G41: =Questionnaire!F70 -> 1 | H41: =IF(E41="Not applicable","",G41*$D$15) -> 1 | I41: =IFERROR(F41*G41,0) -> 0 | J41: =IFERROR(I41,0) -> 0
C42: Inclusive hiring and upskilling | D42: 4.1.3 | E42: =Questionnaire!E71 -> 0 | F42: =IF(E42='Data - Do not edit'!C106,1,IF(E42='Data - Do not edit'!C107,0,"")) | G42: =Questionnaire!F71 -> 1 | H42: =IF(E42="Not applicable","",G42*$D$15) -> 1 | I42: =IFERROR(F42*G42,0) -> 0 | J42: =IFERROR(I42,0) -> 0
C43: Inclusive hiring and upskilling | D43: 4.1.4 | E43: =Questionnaire!E72 -> 0 | F43: =IF(E43='Data - Do not edit'!C110,1,IF(E43='Data - Do not edit'!C111,0,"")) | G43: =Questionnaire!F72 -> 1 | H43: =IF(E43="Not applicable","",G43*$D$15) -> 1 | I43: =IFERROR(F43*G43,0) -> 0 | J43: =IFERROR(I43,0) -> 0
C44: Induction and benefits awareness | D44: 4.2.1 | E44: =Questionnaire!E73 -> 0 | F44: =IF(E44='Data - Do not edit'!C114,1,IF(E44='Data - Do not edit'!C115,0,"")) | G44: =Questionnaire!F73 -> 1 | H44: =IF(E44="Not applicable","",G44*$D$15) -> 1 | I44: =IFERROR(F44*G44,0) -> 0 | J44: =IFERROR(I44,0) -> 0
C45: Induction and benefits awareness | D45: 4.2.2 | E45: =Questionnaire!E74 -> 0 | F45: =IF(E45='Data - Do not edit'!C118,1,IF(E45='Data - Do not edit'!C119,0,"")) | G45: =Questionnaire!F74 -> 1 | H45: =IF(E45="Not applicable","",G45*$D$15) -> 1 | I45: =IFERROR(F45*G45,0) -> 0 | J45: =IFERROR(I45,0) -> 0
C46: Induction and benefits awareness | D46: 4.2.3 | E46: =Questionnaire!E75 -> 0 | F46: =IF(E46='Data - Do not edit'!C122,1,IF(E46='Data - Do not edit'!C123,0,"")) | G46: =Questionnaire!F75 -> 1 | H46: =IF(E46="Not applicable","",G46*$D$15) -> 1 | I46: =IFERROR(F46*G46,0) -> 0 | J46: =IFERROR(I46,0) -> 0
C47: Induction and benefits awareness | D47: 4.2.4 | E47: =Questionnaire!E76 -> 0 | F47: =IF(E47='Data - Do not edit'!C126,1,IF(E47='Data - Do not edit'!C127,0,"")) | G47: =Questionnaire!F76 -> 1 | H47: =IF(E47="Not applicable","",G47*$D$15) -> 1 | I47: =IFERROR(F47*G47,0) -> 0 | J47: =IFERROR(I47,0) -> 0
...

Sheet Data - Do not edit
B2: Data
B5: This sheet contains all the background data for the drop-down menu of the responses
B7: Note: Do not edit or modify this sheet
B9: Dimension 1 – Outcome
B11: 1.1.1 | C11: What % of workers (includes on-roll, off-roll, casual labour) across all your sites are women?
B12: a) | C12: <5%
B13: b) | C13: >=5%
B14: c) | C14: >=10%
B15: d) | C15: >=20%
B16: e) | C16: >=30%
B18: 1.2.1 | C18: Do women work in skilled roles in at least 10% of all your sites?
B19: a) | C19: Yes
B20: b) | C20: No
B22: 1.2.2 | C22: Do women work in skilled roles in at least 30% of all your sites?
B23: a) | C23: Yes
B24: b) | C24: No
... B39: e) | C39: >=70%
B41: Dimension 2 – Accountability
B43: 2.1.1 | C43: Do you collect/ maintain data on worker attendance by gender in weekly progress reports for all your sites?
B44: a) | C44: Yes
B45: b) | C45: No
B47: 2.1.2 | C47: Do you include non-binding gender diversity expectations (e.g., reasonable efforts towards 10% diversity) in your contracts? [Select 'Not applicable' if you do not have formal contractors/ sub-contractors for construction work on any of your sites]
B48: a) | C48: Not applicable
B49: b) | C49: Yes
B50: c) | C50: No
B52: 2.1.3 | C52: Have you mandated/ taken a gender diversity target (e.g., 25%) for all your sites?
B53: a) | C53: Yes
B54: b) | C54: No
B56: 2.1.4 | C56: Do you assign a defined weightage (e.g., 5%) to gender diversity when awarding contracts? [Select 'Not applicable' if you do not have formal contractors/ sub-contractors for construction work on any of your sites]
B57: a) | C57: Not applicable
... B59: c) | C59: No
B61: Dimension 3 – Employment practices
B63: 3.1.1 | C63: Do all your sites display minimum wage and overtime rate information by skill level?
B64: a) | C64: Yes
B65: b) | C65: No
B67: 3.1.2 | C67: Do all your sites maintain records of daily attendance and wage payment (e.g., UPI screenshots, signed wage slips) for all workers?*
B68: a) | C68: Yes
B69: b) | C69: No
B71: 3.1.3 | C71: In the last quarter, have all your sites conducted an audit of attendance and wage payment records to check minimum wage and overtime rate compliance?
B72: a) | C72: Yes
...
