Workbook

Sheet Objectives and Context
B2: Gender Equity Readiness Scorecard (GERS) for renewable energy roles
B5: Objectives | C5: This GERS (Gender Equity Readiness Scorecard) tool is designed to score project owners and contractors on their performance on gender equity in entry-level roles (across construction/ installation, fixed-site operations and maintenance (O&M) and field operations and maintenance (O&M)), and identify areas of improvement
B7: Context | C7: This tool: 1. Is designed to be used by either the companies themselves or independent evaluators 2. Is recommended to be used annually/ bi-annually to track progress 3. Has been designed to evaluate all construction/ installation and operations and maintenance (O&M) sites involved in renewable energy generation, storage, transmission, and distribution 4. Can be used effectively by a medium or large project owner/ contractor
B9: Table of contents:
B11: Sheet | C11: Description
B12: How to use | C12: This sheet provides step-by-step instructions on whom to interview to score the organisation, and how to navigate this tool to fill in background information, complete the questionnaire, and view the final GERS score
B13: Score summary | C13: This is your main output page. The sheet will automatically display your background information and final GERS score once you complete the questionnaire
B14: Questionnaire | C14: This is the main survey sheet. Here you will enter your background information, and answer all the questions by selecting an option from the dropdown menus in the 'Your Response' column. Your answers will be scored automatically

Sheet How to use
B2: How to use this tool
B5: Whom to interview to score the organisation | C5: 1. Interview someone at the head office who has:
C6: a. Data (e.g., headcount, gender diversity) on all construction/ installation or operations and maintenance (fixed-location/ field) sites operated by the project owner/ contractor
C7: b. Information about hiring policies of their contractors/ sub-contractors, and about facilities and practices of all construction/ installation or operations and maintenance (fixed-location/ field) sites
C8: 2. Ideally interview the head of HR or projects, but in some cases, you could also interview the senior project managers (for large-scale project owners/ contractors)
B10: How to use this tool | C10: Estimated time to complete: 20–30 minutes
C12: Step 1: Fill in your background information in the yellow cells
C13: Go to the 'Questionnaire' sheet
C14: Fill the fields in the 'Background' table
C16: Step 2: Complete the Questionnaire
C17: Go to the 'Questionnaire' sheet. You will see a list of survey questions
C18: For each question, go to the 'Your Response' column
C19: Click the dropdown menu and select the response that best fits your organisation
C20: If a question doesn’t apply to your operational context, select ‘Not applicable’ as the answer wherever allowed
C22: Step 3: View your score
C23: Go to the 'Score summary' sheet to view your final GERS score
B25: How the scoring works | C25: 1. The survey assesses gender equity performance across four dimensions: (1) Outcome, which includes three parameters; (2) Accountability, which includes two parameters; (3) Facilities and support, which includes two parameters; and (4) Inclusive hiring and onboarding, which includes two parameters 2. Each question in the Outcome dimension is assigned a base score of 4, while each question in other dimensions is assigned a base score of 1, along with a multiplier (e.g., 1x, 2x, 3x) based on the effort/ impact potential. The total score is the sum of scores from all questions 3. Where 'Not applicable' is selected as the response, the question is excluded from both your score and maximum score of that dimension 4. The Excel workbook automatically calculates the total score for each question by applying the relevant multiplier to the base score 5. All scores are aggregated in the summary sheet, providing an overall view of gender equity performance across the four dimensions. Manual calculation is not required

Sheet Score summary
B2: Summary
B5: Background details of the company
B7: Description | H7: User input
B8: Full name of the company | H8: =IF(LEN(Questionnaire!E12)=0,"",Questionnaire!E12)
B9: Number of renewable energy sites in India | H9: =IF(LEN(Questionnaire!E13)=0,"",Questionnaire!E13)
B10: Total number of employees across all sites in India | H10: =IF(LEN(Questionnaire!E14)=0,"",Questionnaire!E14)
B11: Your company's role in the renewable energy sector | H11: {=_xlfn.TEXTJOIN(", ", TRUE, IFERROR(_xlfn._xlws.FILTER(Questionnaire!B16:B17, Questionnaire!E16:E17="Yes"), ""), IF(Questionnaire!E18<>"", Questionnaire!E18, "") )}
B14: Relevant segments | H14: {=_xlfn.TEXTJOIN(", ", TRUE, IFERROR(_xlfn._xlws.FILTER(Questionnaire!B20:B23, Questionnaire!E20:E23="Yes"), ""))}
B15: Activities undertaken by your company | H15: {=_xlfn.TEXTJOIN(", ", TRUE, IFERROR(_xlfn._xlws.FILTER(Questionnaire!B25:B27, Questionnaire!E25:E27="Yes"), ""), IF(Questionnaire!E28<>"", Questionnaire!E28, "") )}
B20: Summary of questions
B22: Category | E22: Count
B23: Total # of questions in the tool | E23: =COUNTA(Questionnaire!C38:C40)+COUNTA(Questionnaire!C45:C52)+COUNTA(Questionnaire!C57:C64)+COUNTA(Questionnaire!C69:C76) -> 27
B24: # of questions where your response is 'Not applicable' | E24: =COUNTIF(Questionnaire!E38:E40,"Not applicable")+COUNTIF(Questionnaire!E45:E52,"Not applicable")+COUNTIF(Questionnaire!E57:E64,"Not applicable")+COUNTIF(Questionnaire!E69:E76, "Not applicable") -> 0
B25: # of questions included in scoring | E25: =E23-E24 -> 27
B27: GERS score
B29: Your final GERS score is | C29: =E37 -> 0
B31: Break-up of GERS score*
B32: Dimension | C32: Max score | D32: Your score | E32: Your %
B33: Outcome | C33: ='Scoring - Do not edit'!H22 -> 36 | D33: ='Scoring - Do not edit'!J22 -> 0 | E33: =IFERROR(D33/C33,0) -> 0
B34: Accountability | C34: ='Scoring - Do not edit'!H31 -> 16 | D34: ='Scoring - Do not edit'!J31 -> 0 | E34: =IFERROR(D34/C34,0) -> 0
B35: Facilities and support | C35: ='Scoring - Do not edit'!H40 -> 8 | D35: ='Scoring - Do not edit'!J40 -> 0 | E35: =IFERROR(D35/C35,0) -> 0
B36: Inclusive hiring and onboarding | C36: ='Scoring - Do not edit'!H49 -> 12 | D36: ='Scoring - Do not edit'!J49 -> 0 | E36: =IFERROR(D36/C36,0) -> 0
B37: Total | C37: ='Scoring - Do not edit'!H50 -> 72 | D37: =IFERROR('Scoring - Do not edit'!J50,"0") -> 0 | E37: =IFERROR(D37/C37,0) -> 0
B38: *Note: Max score excludes questions where 'Not applicable' is selected as the response
B40: Next steps
B42: Review your responses in the Questionnaire sheet to identify the 3-4 practices that are not currently in place or are only partially implemented
B43: Prioritising these areas will help you strengthen performance and improve your overall GERS score in the next assessment cycle

Sheet Questionnaire
B2: Questionnaire
B5: GERS: Renewable energy roles
B7: Legend | C7: User input needed
B9: Background
B11: Field | E11: Input
B12: What is the full name of your company?
B13: How many renewable energy sites in India is your company currently engaged in? (construction/ installation/ operations and maintenance)
B14: What is the total number of employees across all sites you are currently engaged in across India? (Includes on-roll, off-roll, casual labour)
B15: Which of the following best describes your company's role in the renewable energy sector? (Select 'Yes' for all that apply)
B16: Project owner (Asset owner/ project owner/ developer/ IPP)*
B17: Contractor (EPC, O&M, Staffing, Manufacturing)*
B18: Others (please specify)
B19: Which renewable energy segment(s) does your company operate in? (Select 'Yes' for all that apply)
B20: Generation
B21: Storage
B22: Transmission
B23: Distribution
... B30: Common terms used
B32: Term | D32: Description
B33: Worker | D33: Refers to any entry-level worker (on-roll, off-roll, casual labour) employed at construction/ installation or O&M (fixed-location/ field) sites regardless of the employer (e.g., project owner, contractor, sub-contractor)
B35: Dimension 1: Outcome
B37: Parameter | C37: # | D37: Question | E37: Your response | F37: Multiplier
B38: Women in construction/ installation roles | C38: 1.1.1 | D38: =VLOOKUP(C38,'Data - Do not edit'!$B$11:$C$1048576,2,0) -> What % workers in construction/ installation roles (includes on-roll, off-roll, casual labour), across all your sites, are women? [Select 'Not applicable' if you do not have any construction/ installation related roles] | F38: 3
B39: Women in fixed-site O&M roles | C39: 1.2.1 | D39: =VLOOKUP(C39,'Data - Do not edit'!$B$11:$C$1048576,2,0) -> What % of workers in fixed-site O&M roles (includes on-roll, off-roll, casual labour), across all your sites, are women? [Select 'Not applicable' if you do not have any fixed-site O&M roles]* | F39: 3
B40: Women in field O&M roles | C40: 1.3.1 | D40: =VLOOKUP(C40,'Data - Do not edit'!$B$11:$C$1048576,2,0) -> What % of workers in field O&M roles (includes on-roll, off-roll, casual labour), across all your sites, are women? [Select 'Not applicable' if you do not have any field O&M roles]* | F40: 3
B42: Dimension 2: Accountability
B44: Parameter | C44: # | D44: Question | E44: Your response | F44: Multiplier
B45: Diversity data and targets | C45: 2.1.1 | D45: =VLOOKUP(C45,'Data - Do not edit'!$B$11:$C$1048576,2,0) -> Do you include non-binding gender diversity expectations (e.g., reasonable efforts towards 10% diversity) in your construction/ installation or O&M contracts? [Select 'Not applicable' if you do not have any formal contractors/ sub-contractors for construction/ installation or O&M functions]* | F45: 2
C46: 2.1.2 | D46: =VLOOKUP(C46,'Data - Do not edit'!$B$11:$C$1048576,2,0) -> In the last quarter, have all your sites conducted an audit of wage payment records to check for any gender-based wage gap for same roles? | F46: 2
C47: 2.1.3 | D47: =VLOOKUP(C47,'Data - Do not edit'!$B$11:$C$1048576,2,0) -> Have you mandated/ taken a gender diversity target (e.g., 15%) for all your project sites? | F47: 2
C48: 2.1.4 | D48: =VLOOKUP(C48,'Data - Do not edit'!$B$11:$C$1048576,2,0) -> Do you assign a defined weightage (e.g., 5%) to gender diversity when awarding contracts? [Select 'Not applicable' if you do not have any formal contractors/ sub-contractors for construction/ installation or O&M functions]* | F48: 2
B49: Diversity data publication | C49: 2.2.1 | D49: =VLOOKUP(C49,'Data - Do not edit'!$B$11:$C$1048576,2,0) -> Have you documented the qualitative benefits of hiring women in entry-level roles, and shared with site heads/ regional safety managers/ sub-contractors? | F49: 2
C50: 2.2.2 | D50: =VLOOKUP(C50,'Data - Do not edit'!$B$11:$C$1048576,2,0) -> In the last two years, have you externally published content on your gender diversity progress or initiatives for entry-level roles (via news articles, blogs)? | F50: 2
C51: 2.2.3 | D51: =VLOOKUP(C51,'Data - Do not edit'!$B$11:$C$1048576,2,0) -> In the last two years, have you published your gender diversity numbers externally (via website/ annual report/ news article)? | F51: 2
C52: 2.2.4 | D52: =VLOOKUP(C52,'Data - Do not edit'!$B$11:$C$1048576,2,0) -> Have you estimated the quantitative benefits of hiring women (e.g., safety incidents), and shared the findings with site heads/ regional safety managers/ sub-contractors? | F52: 2
B54: Dimension 3: Facilities and support
B56: Parameter | C56: # | D56: Question | E56: Your response | F56: Multiplier
B57: Comfort and mobility | C57: 3.1.1 | D57: =VLOOKUP(C57,'Data - Do not edit'!$B$11:$C$1048576,2,0) -> Do all your sites and staff reporting locations (e.g., substations) have separate toilets for women? | F57: 1
C58: 3.1.2 | D58: =VLOOKUP(C58,'Data - Do not edit'!$B$11:$C$1048576,2,0) -> Do all your sites arrange transportation for women workers travelling to remote sites or working outside standard hours (e.g., shifts ending post 7 pm)? | F58: 1
C59: 3.1.3 | D59: =VLOOKUP(C59,'Data - Do not edit'!$B$11:$C$1048576,2,0) -> Do all transport vehicles provided to women have at least one of the following: an SOS/ emergency button, security guard, GPS tracker, or CCTV? | F59: 1
...

Sheet Scoring - Do not edit
B2: Scoring
B5: This sheet automatically calculates the score as per your responses
B7: Note: Do not edit or modify this sheet
B9: Legend | C9: Data based on user input
C10: Data as per GERS tool
C11: Calculated
B13: Max base score (without multiplier) for
B14: Questions under 'outcome' dimension | D14: 4
B15: Questions under other dimensions | D15: 1
B17: Calculation table
B18: Dimension | C18: Parameter | D18: Question | E18: Response | F18: Score | G18: Multiplier | H18: Maximum score | I18: Score * Multiplier | J18: Respondent's score
B19: Outcome | C19: Women in construction/ installation roles | D19: 1.1.1 | E19: =Questionnaire!E38 -> 0 | F19: =IF(E19='Data - Do not edit'!C12,"",IF(E19='Data - Do not edit'!C13,0,IF(E19='Data - Do not edit'!C14,1,IF(E19='Data - Do not edit'!C15,2,IF(E19='Data - Do not edit'!C16,3,IF(E19='Data - Do not edit'!C17,4,"")))))) | G19: =Questionnaire!F38 -> 3 | H19: =IF(E19="Not applicable","",G19*$D$14) -> 12 | I19: =IFERROR(F19*G19,0) -> 0 | J19: =IFERROR(I19,0) -> 0
C20: Women in fixed-site O&M roles | D20: 1.2.1 | E20: =Questionnaire!E39 -> 0 | F20: =IF(E20='Data - Do not edit'!C20,"",IF(E20='Data - Do not edit'!C21,0,IF(E20='Data - Do not edit'!C22,1,IF(E20='Data - Do not edit'!C23,2,IF(E20='Data - Do not edit'!C24,3,IF(E20='Data - Do not edit'!C25,4,"")))))) | G20: =Questionnaire!F39 -> 3 | H20: =IF(E20="Not applicable","",G20*$D$14) -> 12 | I20: =IFERROR(F20*G20,0) -> 0 | J20: =IFERROR(I20,0) -> 0
C21: Women in field O&M roles | D21: 1.3.1 | E21: =Questionnaire!E40 -> 0 | F21: =IF(E21='Data - Do not edit'!C28, "", IF(E21='Data - Do not edit'!C29, 0, IF(E21='Data - Do not edit'!C30, 1, IF(E21='Data - Do not edit'!C31, 2, IF(E21='Data - Do not edit'!C32, 3, IF(E21='Data - Do not edit'!C33, 4, "")))))) | G21: =Questionnaire!F40 -> 3 | H21: =IF(E21="Not applicable","",G21*$D$14) -> 12 | I21: =IFERROR(F21*G21,0) -> 0 | J21: =IFERROR(I21,0) -> 0
C22: Sub-total per dimension | H22: =SUM(H19:H21) -> 36 | J22: =IFERROR(SUM(J19:J21),"0") -> 0
B23: Accountability | C23: Diversity data and targets | D23: 2.1.1 | E23: =Questionnaire!E45 -> 0 | F23: =IF(E23='Data - Do not edit'!C38,"",IF(E23='Data - Do not edit'!C39,1,IF(E23='Data - Do not edit'!C40,0,""))) | G23: =Questionnaire!F45 -> 2 | H23: =IF(E23="Not applicable","",G23*$D$15) -> 2 | I23: =IFERROR(F23*G23,0) -> 0 | J23: =IFERROR(I23,0) -> 0
C24: Diversity data and targets | D24: 2.1.2 | E24: =Questionnaire!E46 -> 0 | F24: =IF(E24='Data - Do not edit'!C43,1,IF(E24='Data - Do not edit'!C44,0,"")) | G24: =Questionnaire!F46 -> 2 | H24: =IF(E24="Not applicable","",G24*$D$15) -> 2 | I24: =IFERROR(F24*G24,0) -> 0 | J24: =IFERROR(I24,0) -> 0
C25: Diversity data and targets | D25: 2.1.3 | E25: =Questionnaire!E47 -> 0 | F25: =IF(E25='Data - Do not edit'!C47,1, IF(E25='Data - Do not edit'!C48,0,"")) | G25: =Questionnaire!F47 -> 2 | H25: =IF(E25="Not applicable","",G25*$D$15) -> 2 | I25: =IFERROR(F25*G25,0) -> 0 | J25: =IFERROR(I25,0) -> 0
C26: Diversity data and targets | D26: 2.1.4 | E26: =Questionnaire!E48 -> 0 | F26: =IF(E26='Data - Do not edit'!C51,"",IF(E26='Data - Do not edit'!C52,1,IF(E26='Data - Do not edit'!C53,0,""))) | G26: =Questionnaire!F48 -> 2 | H26: =IF(E26="Not applicable","",G26*$D$15) -> 2 | I26: =IFERROR(F26*G26,0) -> 0 | J26: =IFERROR(I26,0) -> 0
C27: Diversity data publication | D27: 2.2.1 | E27: =Questionnaire!E49 -> 0 | F27: =IF(E27='Data - Do not edit'!C56,1,IF(E27='Data - Do not edit'!C57,0,"")) | G27: =Questionnaire!F49 -> 2 | H27: =IF(E27="Not applicable","",G27*$D$15) -> 2 | I27: =IFERROR(F27*G27,0) -> 0 | J27: =IFERROR(I27,0) -> 0
C28: Diversity data publication | D28: 2.2.2 | E28: =Questionnaire!E50 -> 0 | F28: =IF(E28='Data - Do not edit'!C60,1,IF(E28='Data - Do not edit'!C61,0,"")) | G28: =Questionnaire!F50 -> 2 | H28: =IF(E28="Not applicable","",G28*$D$15) -> 2 | I28: =IFERROR(F28*G28,0) -> 0 | J28: =IFERROR(I28,0) -> 0
C29: Diversity data publication | D29: 2.2.3 | E29: =Questionnaire!E51 -> 0 | F29: =IF(E29='Data - Do not edit'!C64,1,IF(E29='Data - Do not edit'!C65,0,"")) | G29: =Questionnaire!F51 -> 2 | H29: =IF(E29="Not applicable","",G29*$D$15) -> 2 | I29: =IFERROR(F29*G29,0) -> 0 | J29: =IFERROR(I29,0) -> 0
C30: Diversity data publication | D30: 2.2.4 | E30: =Questionnaire!E52 -> 0 | F30: =IF(E30='Data - Do not edit'!C68,1,IF(E30='Data - Do not edit'!C69,0,"")) | G30: =Questionnaire!F52 -> 2 | H30: =IF(E30="Not applicable","",G30*$D$15) -> 2 | I30: =IFERROR(F30*G30,0) -> 0 | J30: =IFERROR(I30,0) -> 0
C31: Sub-total per dimension | H31: =SUM(H23:H30) -> 16 | J31: =IFERROR(SUM(J23:J30),"0") -> 0
B32: Facilities and support | C32: Comfort and mobility | D32: 3.1.1 | E32: =Questionnaire!E57 -> 0 | F32: =IF(E32='Data - Do not edit'!C74,1,IF(E32='Data - Do not edit'!C75,0,"")) | G32: =Questionnaire!F57 -> 1 | H32: =IF(E32="Not applicable","",G32*$D$15) -> 1 | I32: =IFERROR(F32*G32,0) -> 0 | J32: =IFERROR(I32,0) -> 0
C33: Comfort and mobility | D33: 3.1.2 | E33: =Questionnaire!E58 -> 0 | F33: =IF(E33='Data - Do not edit'!C78,1,IF(E33='Data - Do not edit'!C79,0,"")) | G33: =Questionnaire!F58 -> 1 | H33: =IF(E33="Not applicable","",G33*$D$15) -> 1 | I33: =IFERROR(F33*G33,0) -> 0 | J33: =IFERROR(I33,0) -> 0
C34: Comfort and mobility | D34: 3.1.3 | E34: =Questionnaire!E59 -> 0 | F34: =IF(E34='Data - Do not edit'!C82,1,IF(E34='Data - Do not edit'!C83,0,"")) | G34: =Questionnaire!F59 -> 1 | H34: =IF(E34="Not applicable","",G34*$D$15) -> 1 | I34: =IFERROR(F34*G34,0) -> 0 | J34: =IFERROR(I34,0) -> 0
C35: Comfort and mobility | D35: 3.1.4 | E35: =Questionnaire!E60 -> 0 | F35: =IF(E35='Data - Do not edit'!C86,"",IF(E35='Data - Do not edit'!C87,1,IF(E35='Data - Do not edit'!C88,0,""))) | G35: =Questionnaire!F60 -> 1 | H35: =IF(E35="Not applicable","",G35*$D$15) -> 1 | I35: =IFERROR(F35*G35,0) -> 0 | J35: =IFERROR(I35,0) -> 0
C36: Workplace safety and support | D36: 3.2.1 | E36: =Questionnaire!E61 -> 0 | F36: =IF(E36='Data - Do not edit'!C91,1,IF(E36='Data - Do not edit'!C92,0,"")) | G36: =Questionnaire!F61 -> 1 | H36: =IF(E36="Not applicable","",G36*$D$15) -> 1 | I36: =IFERROR(F36*G36,0) -> 0 | J36: =IFERROR(I36,0) -> 0
C37: Workplace safety and support | D37: 3.2.2 | E37: =Questionnaire!E62 -> 0 | F37: =IF(E37='Data - Do not edit'!C95,1,IF(E37='Data - Do not edit'!C96,0,"")) | G37: =Questionnaire!F62 -> 1 | H37: =IF(E37="Not applicable","",G37*$D$15) -> 1 | I37: =IFERROR(F37*G37,0) -> 0 | J37: =IFERROR(I37,0) -> 0
C38: Workplace safety and support | D38: 3.2.3 | E38: =Questionnaire!E63 -> 0 | F38: =IF(E38='Data - Do not edit'!C99,"",IF(E38='Data - Do not edit'!C100,1,IF(E38='Data - Do not edit'!C101,0,""))) | G38: =Questionnaire!F63 -> 1 | H38: =IF(E38="Not applicable","",G38*$D$15) -> 1 | I38: =IFERROR(F38*G38,0) -> 0 | J38: =IFERROR(I38,0) -> 0
C39: Workplace safety and support | D39: 3.2.4 | E39: =Questionnaire!E64 -> 0 | F39: =IF(E39='Data - Do not edit'!C104,1,IF(E39='Data - Do not edit'!C105,0,"")) | G39: =Questionnaire!F64 -> 1 | H39: =IF(E39="Not applicable","",G39*$D$15) -> 1 | I39: =IFERROR(F39*G39,0) -> 0 | J39: =IFERROR(I39,0) -> 0
C40: Sub-total per dimension | H40: =SUM(H32:H39) -> 8 | J40: =IFERROR(SUM(J32:J39),"0") -> 0
B41: Inclusive hiring and onboarding | C41: Inclusive hiring and upskilling | D41: 4.1.1 | E41: =Questionnaire!E69 -> 0 | F41: =IF(E41='Data - Do not edit'!C110,1,IF(E41='Data - Do not edit'!C111,0,"")) | G41: =Questionnaire!F69 -> 2 | H41: =IF(E41="Not applicable","",G41*$D$15) -> 2 | I41: =IFERROR(F41*G41,0) -> 0 | J41: =IFERROR(I41,0) -> 0
C42: Inclusive hiring and upskilling | D42: 4.1.2 | E42: =Questionnaire!E70 -> 0 | F42: =IF(E42='Data - Do not edit'!C114,1,IF(E42='Data - Do not edit'!C115,0,"")) | G42: =Questionnaire!F70 -> 2 | H42: =IF(E42="Not applicable","",G42*$D$15) -> 2 | I42: =IFERROR(F42*G42,0) -> 0 | J42: =IFERROR(I42,0) -> 0
C43: Inclusive hiring and upskilling | D43: 4.1.3 | E43: =Questionnaire!E71 -> 0 | F43: =IF(E43='Data - Do not edit'!C118,1,IF(E43='Data - Do not edit'!C119,0,"")) | G43: =Questionnaire!F71 -> 2 | H43: =IF(E43="Not applicable","",G43*$D$15) -> 2 | I43: =IFERROR(F43*G43,0) -> 0 | J43: =IFERROR(I43,0) -> 0
C44: Inclusive hiring and upskilling | D44: 4.1.4 | E44: =Questionnaire!E72 -> 0 | F44: =IF(E44='Data - Do not edit'!C122,1,IF(E44='Data - Do not edit'!C123,0,"")) | G44: =Questionnaire!F72 -> 2 | H44: =IF(E44="Not applicable","",G44*$D$15) -> 2 | I44: =IFERROR(F44*G44,0) -> 0 | J44: =IFERROR(I44,0) -> 0
C45: Induction and sensitisation | D45: 4.2.1 | E45: =Questionnaire!E73 -> 0 | F45: =IF(E45='Data - Do not edit'!C126,1,IF(E45='Data - Do not edit'!C127,0,"")) | G45: =Questionnaire!F73 -> 1 | H45: =IF(E45="Not applicable","",G45*$D$15) -> 1 | I45: =IFERROR(F45*G45,0) -> 0 | J45: =IFERROR(I45,0) -> 0
C46: Induction and sensitisation | D46: 4.2.2 | E46: =Questionnaire!E74 -> 0 | F46: =IF(E46='Data - Do not edit'!C130,1,IF(E46='Data - Do not edit'!C131,0,"")) | G46: =Questionnaire!F74 -> 1 | H46: =IF(E46="Not applicable","",G46*$D$15) -> 1 | I46: =IFERROR(F46*G46,0) -> 0 | J46: =IFERROR(I46,0) -> 0
C47: Induction and sensitisation | D47: 4.2.3 | E47: =Questionnaire!E75 -> 0 | F47: =IF(E47='Data - Do not edit'!C134,1,IF(E47='Data - Do not edit'!C135,0,"")) | G47: =Questionnaire!F75 -> 1 | H47: =IF(E47="Not applicable","",G47*$D$15) -> 1 | I47: =IFERROR(F47*G47,0) -> 0 | J47: =IFERROR(I47,0) -> 0
...

Sheet Data - Do not edit
B2: Data
B5: This sheet contains all the background data for the drop-down menu of the responses
B7: Note: Do not edit or modify this sheet
B9: Dimension 1 – Outcome
B11: 1.1.1 | C11: What % workers in construction/ installation roles (includes on-roll, off-roll, casual labour), across all your sites, are women? [Select 'Not applicable' if you do not have any construction/ installation related roles]
B12: a) | C12: Not applicable
B13: b) | C13: <5%
B14: c) | C14: >=5%
B15: d) | C15: >=10%
B16: e) | C16: >=15%
B17: f) | C17: >=20%
B19: 1.2.1 | C19: What % of workers in fixed-site O&M roles (includes on-roll, off-roll, casual labour), across all your sites, are women? [Select 'Not applicable' if you do not have any fixed-site O&M roles]*
B20: a) | C20: Not applicable
B21: b) | C21: <5%
B22: c) | C22: >=5%
B23: d) | C23: >=10%
... B33: f) | C33: >=10%
B35: Dimension 2 – Accountability
B37: 2.1.1 | C37: Do you include non-binding gender diversity expectations (e.g., reasonable efforts towards 10% diversity) in your construction/ installation or O&M contracts? [Select 'Not applicable' if you do not have any formal contractors/ sub-contractors for construction/ installation or O&M functions]*
B38: a) | C38: Not applicable
B39: b) | C39: Yes
B40: c) | C40: No
B42: 2.1.2 | C42: In the last quarter, have all your sites conducted an audit of wage payment records to check for any gender-based wage gap for same roles?
B43: a) | C43: Yes
B44: b) | C44: No
B46: 2.1.3 | C46: Have you mandated/ taken a gender diversity target (e.g., 15%) for all your project sites?
B47: a) | C47: Yes
B48: b) | C48: No
B50: 2.1.4 | C50: Do you assign a defined weightage (e.g., 5%) to gender diversity when awarding contracts? [Select 'Not applicable' if you do not have any formal contractors/ sub-contractors for construction/ installation or O&M functions]*
B51: a) | C51: Not applicable
... B69: b) | C69: No
B71: Dimension 3 – Facilities and support
B73: 3.1.1 | C73: Do all your sites and staff reporting locations (e.g., substations) have separate toilets for women?
B74: a) | C74: Yes
B75: b) | C75: No
B77: 3.1.2 | C77: Do all your sites arrange transportation for women workers travelling to remote sites or working outside standard hours (e.g., shifts ending post 7 pm)?
B78: a) | C78: Yes
B79: b) | C79: No
B81: 3.1.3 | C81: Do all transport vehicles provided to women have at least one of the following: an SOS/ emergency button, security guard, GPS tracker, or CCTV?
B82: a) | C82: Yes
...
